BEGIN:VCALENDAR
VERSION:2.0
PRODID:icalendar-ruby
CALSCALE:GREGORIAN
BEGIN:VEVENT
DTSTAMP:20260421T090201Z
UID:e8d8492e-0220-46d3-bd8e-f199f257e6b1
DTSTART;VALUE=DATE:20200223
DESCRIPTION:Property ID# 472150\, Time: 1:00PM
SUMMARY:Auction for 
END:VEVENT
END:VCALENDAR
